BEGIN:VCALENDAR
VERSION:2.0
PRODID:-//hacksw/handcal//NONSGML v1.0//EN
BEGIN:VEVENT
SUMMARY:Preparation du ballet de fin d'annee
UID:623df6fd-c1b1-4dbf-84a3-8531b530d7e5
DTSTART:20260318T174500Z
DTEND:20260318T210000Z
LOCATION:Localisation Salle Drout 72000 
CATEGORIES:Sportif
STATUS:
DESCRIPTION:Une seance de preparation du ballet de fin d'annee aura
 lieu jeudi soir. 
URL;VALUE=URI:https://poleandco.sportsregions.fr/evenements/2026/03/18/preparation-du-ballet-de-fin-dannee-2429796
END:VEVENT
END:VCALENDAR
